BEGIN:VCALENDAR
VERSION:2.0
PRODID:-//Harvest Lifestyles - Gun, Firearms and Hunting Safety Training in Dawson Creek, Chetwynd, Tumbler Ridge, Hudson&#039;s Hope and Fort St. John, BC - ECPv6.13.2.1//NONSGML v1.0//EN
CALSCALE:GREGORIAN
METHOD:PUBLISH
X-WR-CALNAME:Harvest Lifestyles - Gun, Firearms and Hunting Safety Training in Dawson Creek, Chetwynd, Tumbler Ridge, Hudson&#039;s Hope and Fort St. John, BC
X-ORIGINAL-URL:https://harvestlifestyles.ca
X-WR-CALDESC:Events for Harvest Lifestyles - Gun, Firearms and Hunting Safety Training in Dawson Creek, Chetwynd, Tumbler Ridge, Hudson&#039;s Hope and Fort St. John, BC
REFRESH-INTERVAL;VALUE=DURATION:PT1H
X-Robots-Tag:noindex
X-PUBLISHED-TTL:PT1H
BEGIN:VTIMEZONE
TZID:America/Dawson_Creek
BEGIN:STANDARD
TZOFFSETFROM:-0700
TZOFFSETTO:-0700
TZNAME:MST
DTSTART:20180101T000000
END:STANDARD
END:VTIMEZONE
BEGIN:VEVENT
DTSTART;TZID=America/Dawson_Creek:20180908T090000
DTEND;TZID=America/Dawson_Creek:20180909T170000
DTSTAMP:20260424T082808
CREATED:20180707T191927Z
LAST-MODIFIED:20180707T201214Z
UID:342-1536397200-1536512400@harvestlifestyles.ca
SUMMARY:Conservation\, Outdoor\, Education\, Education  (C.O.R.E.)
DESCRIPTION:Bring photo ID and a lunch. \nNote: \nIn order to be exempt from participating in the practical exam\, you must now provide your copy of  the Canadian Firearms Safety Course Report (The paperwork provided when you complete the P.A.L. course). A P.A.L. is no longer acceptable.
URL:https://harvestlifestyles.ca/course/conservation-outdoor-education-education-c-o-r-e/
LOCATION:JT Safety: Classroom B\, 1405-102 ave\, Dawson Creek\, British Columbia\, Canada
CATEGORIES:CORE
ORGANIZER;CN="Sue Landry":MAILTO:land2b@gmail.com
END:VEVENT
END:VCALENDAR