BEGIN:VCALENDAR
VERSION:2.0
PRODID:-//Harvest Lifestyles - Gun, Firearms and Hunting Safety Training in Dawson Creek, Chetwynd, Tumbler Ridge, Hudson&#039;s Hope and Fort St. John, BC - ECPv6.13.2.1//NONSGML v1.0//EN
CALSCALE:GREGORIAN
METHOD:PUBLISH
X-WR-CALNAME:Harvest Lifestyles - Gun, Firearms and Hunting Safety Training in Dawson Creek, Chetwynd, Tumbler Ridge, Hudson&#039;s Hope and Fort St. John, BC
X-ORIGINAL-URL:https://harvestlifestyles.ca
X-WR-CALDESC:Events for Harvest Lifestyles - Gun, Firearms and Hunting Safety Training in Dawson Creek, Chetwynd, Tumbler Ridge, Hudson&#039;s Hope and Fort St. John, BC
REFRESH-INTERVAL;VALUE=DURATION:PT1H
X-Robots-Tag:noindex
X-PUBLISHED-TTL:PT1H
BEGIN:VTIMEZONE
TZID:America/Dawson_Creek
BEGIN:STANDARD
TZOFFSETFROM:-0700
TZOFFSETTO:-0700
TZNAME:MST
DTSTART:20170101T000000
END:STANDARD
END:VTIMEZONE
BEGIN:VEVENT
DTSTART;VALUE=DATE:20170812
DTEND;VALUE=DATE:20170814
DTSTAMP:20260425T074559
CREATED:20170808T172140Z
LAST-MODIFIED:20170808T172340Z
UID:186-1502496000-1502668799@harvestlifestyles.ca
SUMMARY:CORE Hunter Safety
DESCRIPTION:
URL:https://harvestlifestyles.ca/course/core-hunter-safety/
LOCATION:​JT Safety Training Ltd\, #7 1405 102 avenue\, Dawson Creek\, BC\, V1G 2E1\, Canada
CATEGORIES:CORE
END:VEVENT
END:VCALENDAR