BEGIN:VCALENDAR
VERSION:2.0
PRODID:-//Harvest Lifestyles - Gun, Firearms and Hunting Safety Training in Dawson Creek, Chetwynd, Tumbler Ridge, Hudson&#039;s Hope and Fort St. John, BC - ECPv6.13.2.1//NONSGML v1.0//EN
CALSCALE:GREGORIAN
METHOD:PUBLISH
X-WR-CALNAME:Harvest Lifestyles - Gun, Firearms and Hunting Safety Training in Dawson Creek, Chetwynd, Tumbler Ridge, Hudson&#039;s Hope and Fort St. John, BC
X-ORIGINAL-URL:https://harvestlifestyles.ca
X-WR-CALDESC:Events for Harvest Lifestyles - Gun, Firearms and Hunting Safety Training in Dawson Creek, Chetwynd, Tumbler Ridge, Hudson&#039;s Hope and Fort St. John, BC
REFRESH-INTERVAL;VALUE=DURATION:PT1H
X-Robots-Tag:noindex
X-PUBLISHED-TTL:PT1H
BEGIN:VTIMEZONE
TZID:America/Dawson_Creek
BEGIN:STANDARD
TZOFFSETFROM:-0700
TZOFFSETTO:-0700
TZNAME:MST
DTSTART:20180101T000000
END:STANDARD
END:VTIMEZONE
BEGIN:VEVENT
DTSTART;TZID=America/Dawson_Creek:20180407T090000
DTEND;TZID=America/Dawson_Creek:20180408T153000
DTSTAMP:20260424T190323
CREATED:20180108T234209Z
LAST-MODIFIED:20180108T234209Z
UID:297-1523091600-1523201400@harvestlifestyles.ca
SUMMARY:CORE
DESCRIPTION:Bring photo ID & a lunch
URL:https://harvestlifestyles.ca/course/core-7/
LOCATION:​JT Safety Training Ltd\, #7 1405 102 avenue\, Dawson Creek\, BC\, V1G 2E1\, Canada
CATEGORIES:CORE
ORGANIZER;CN="Sue Landry":MAILTO:land2b@gmail.com
END:VEVENT
END:VCALENDAR