BEGIN:VCALENDAR
VERSION:2.0
PRODID:-//Harvest Lifestyles - Gun, Firearms and Hunting Safety Training in Dawson Creek, Chetwynd, Tumbler Ridge, Hudson&#039;s Hope and Fort St. John, BC - ECPv6.13.2.1//NONSGML v1.0//EN
CALSCALE:GREGORIAN
METHOD:PUBLISH
X-WR-CALNAME:Harvest Lifestyles - Gun, Firearms and Hunting Safety Training in Dawson Creek, Chetwynd, Tumbler Ridge, Hudson&#039;s Hope and Fort St. John, BC
X-ORIGINAL-URL:https://harvestlifestyles.ca
X-WR-CALDESC:Events for Harvest Lifestyles - Gun, Firearms and Hunting Safety Training in Dawson Creek, Chetwynd, Tumbler Ridge, Hudson&#039;s Hope and Fort St. John, BC
REFRESH-INTERVAL;VALUE=DURATION:PT1H
X-Robots-Tag:noindex
X-PUBLISHED-TTL:PT1H
BEGIN:VTIMEZONE
TZID:America/Dawson_Creek
BEGIN:STANDARD
TZOFFSETFROM:-0700
TZOFFSETTO:-0700
TZNAME:MST
DTSTART:20200101T000000
END:STANDARD
END:VTIMEZONE
BEGIN:VEVENT
DTSTART;TZID=America/Dawson_Creek:20200201T090000
DTEND;TZID=America/Dawson_Creek:20200202T160000
DTSTAMP:20260423T045022
CREATED:20191124T172024Z
LAST-MODIFIED:20191124T172410Z
UID:459-1580547600-1580659200@harvestlifestyles.ca
SUMMARY:Conservation Outdoor Recreation Education (C.O.R.E.)
DESCRIPTION:  \nPlease bring photo ID\, and a lunch. \nIf you have taken the Canadian Firearms safety Course\, please bring the paper copy of your P.A.L. course report. \nThank you!
URL:https://harvestlifestyles.ca/course/conservation-outdoor-recreation-education-c-o-r-e-4/
LOCATION:Tumbler Ridge Royal Canadian Legion\, Tumbler Ridge\, Canada
CATEGORIES:CORE
ORGANIZER;CN="Sue Landry":MAILTO:land2b@gmail.com
END:VEVENT
END:VCALENDAR